BEGIN:VCALENDAR
PRODID:-//github.com/rianjs/ical.net//NONSGML ical.net 4.0//EN
VERSION:2.0
BEGIN:VTIMEZONE
TZID:Eastern Standard Time
X-LIC-LOCATION:America/New_York
BEGIN:STANDARD
DTSTART:20241103T020000
RRULE:FREQ=YEARLY;BYDAY=1SU;BYMONTH=11
TZNAME:EST
TZOFFSETFROM:-0400
TZOFFSETTO:-0500
END:STANDARD
BEGIN:DAYLIGHT
DTSTART:20250309T020000
RRULE:FREQ=YEARLY;BYDAY=2SU;BYMONTH=3
TZNAME:EDT
TZOFFSETFROM:-0500
TZOFFSETTO:-0400
END:DAYLIGHT
END:VTIMEZONE
BEGIN:VEVENT
DTEND;TZID=Eastern Standard Time:20261203T200000
DTSTAMP:20260426T000718Z
DTSTART;TZID=Eastern Standard Time:20261203T190000
LOCATION:None
ORGANIZER;CN=Society For Ambulatory Anesthesia;SENT-BY="mailto:info@sambah
 q.org":
SEQUENCE:0
SUMMARY:SAMBA: SAMBA and CAS Webinar: VTE Risk Assessment and Prevention i
 n Ambulatory Surgery
UID:b9c67b00-c767-4a34-9742-24e6df534fa4
END:VEVENT
END:VCALENDAR
