BEGIN:VCALENDAR
PRODID:-//github.com/rianjs/ical.net//NONSGML ical.net 4.0//EN
VERSION:2.0
BEGIN:VTIMEZONE
TZID:Eastern Standard Time
X-LIC-LOCATION:America/New_York
BEGIN:STANDARD
DTSTART:20241103T020000
RRULE:FREQ=YEARLY;BYDAY=1SU;BYMONTH=11
TZNAME:EST
TZOFFSETFROM:-0400
TZOFFSETTO:-0500
END:STANDARD
BEGIN:DAYLIGHT
DTSTART:20250309T020000
RRULE:FREQ=YEARLY;BYDAY=2SU;BYMONTH=3
TZNAME:EDT
TZOFFSETFROM:-0500
TZOFFSETTO:-0400
END:DAYLIGHT
END:VTIMEZONE
BEGIN:VEVENT
DTEND;TZID=Eastern Standard Time:20260429T200000
DTSTAMP:20260426T000850Z
DTSTART;TZID=Eastern Standard Time:20260429T190000
LOCATION:Join Us Virtually
ORGANIZER;CN=Society For Ambulatory Anesthesia;SENT-BY="mailto:info@sambah
 q.org":
SEQUENCE:0
SUMMARY:SAMBA: April SAMBA and QUAD A Webinar: Quality Assurance & Perform
 ance Improvement
UID:b6ef1c71-455d-484c-8b8f-0df41be28bd9
END:VEVENT
END:VCALENDAR
