BEGIN:VCALENDAR
PRODID:-//github.com/rianjs/ical.net//NONSGML ical.net 4.0//EN
VERSION:2.0
BEGIN:VTIMEZONE
TZID:Central Standard Time
X-LIC-LOCATION:America/Chicago
BEGIN:STANDARD
DTSTART:20241103T020000
RRULE:FREQ=YEARLY;BYDAY=1SU;BYMONTH=11
TZNAME:CST
TZOFFSETFROM:-0500
TZOFFSETTO:-0600
END:STANDARD
BEGIN:DAYLIGHT
DTSTART:20250309T020000
RRULE:FREQ=YEARLY;BYDAY=2SU;BYMONTH=3
TZNAME:CDT
TZOFFSETFROM:-0600
TZOFFSETTO:-0500
END:DAYLIGHT
END:VTIMEZONE
BEGIN:VEVENT
DESCRIPTION:Held concurrently with Ambulatory Surgery Center Association A
 nnual Meeting
DTEND;TZID=Central Standard Time;VALUE=DATE:20260517
DTSTAMP:20260426T000454Z
DTSTART;TZID=Central Standard Time;VALUE=DATE:20260513
LOCATION:Gaylord National - Washington\, DC 201 Waterfront Street Oxon Hil
 l\, MD 20745 United States
ORGANIZER;CN=Society For Ambulatory Anesthesia;SENT-BY="mailto:info@sambah
 q.org":
SEQUENCE:0
SUMMARY:SAMBA: SAMBA 2026 Annual Meeting
UID:3ba031f2-abb9-4f04-ac28-001386d29bb2
END:VEVENT
END:VCALENDAR
